BEGIN:VCALENDAR
VERSION:2.0
PRODID:-//www.stonebridgesimi.com//NONSGML kigkonsult.se iCalcreator 2.39.1
 //
CALSCALE:GREGORIAN
METHOD:PUBLISH
UID:f8450872-eb6c-45fb-9057-adb1bbef1688
X-WR-CALNAME:www.stonebridgesimi.com
X-WR-CALDESC:www.stonebridgesimi.com
X-WR-TIMEZONE:America/Los_Angeles
X-LIC-LOCATION:America/Los_Angeles
BEGIN:VEVENT
UID:887f2524-3453-4158-86f3-d00a671e8cba
DTSTAMP:20260425T193742Z
CLASS:PUBLIC
DTSTART;TZID=America/Los_Angeles:20260425T173000
DTEND;TZID=America/Los_Angeles:20260425T183000
SUMMARY:Worship Service
TRANSP:OPAQUE
BEGIN:VALARM
ACTION:DISPLAY
DESCRIPTION:Worship Service
TRIGGER:-PT15M
END:VALARM
END:VEVENT
END:VCALENDAR
